BEGIN:VCALENDAR
VERSION:2.0
PRODID:-//Schussmeisters&#039; Ski and Board Club - ECPv6.15.20//NONSGML v1.0//EN
CALSCALE:GREGORIAN
METHOD:PUBLISH
X-ORIGINAL-URL:https://skimich.com
X-WR-CALDESC:Events for Schussmeisters&#039; Ski and Board Club
REFRESH-INTERVAL;VALUE=DURATION:PT1H
X-Robots-Tag:noindex
X-PUBLISHED-TTL:PT1H
BEGIN:VTIMEZONE
TZID:America/Detroit
BEGIN:DAYLIGHT
TZOFFSETFROM:-0500
TZOFFSETTO:-0400
TZNAME:EDT
DTSTART:20210314T070000
END:DAYLIGHT
BEGIN:STANDARD
TZOFFSETFROM:-0400
TZOFFSETTO:-0500
TZNAME:EST
DTSTART:20211107T060000
END:STANDARD
BEGIN:DAYLIGHT
TZOFFSETFROM:-0500
TZOFFSETTO:-0400
TZNAME:EDT
DTSTART:20220313T070000
END:DAYLIGHT
BEGIN:STANDARD
TZOFFSETFROM:-0400
TZOFFSETTO:-0500
TZNAME:EST
DTSTART:20221106T060000
END:STANDARD
BEGIN:DAYLIGHT
TZOFFSETFROM:-0500
TZOFFSETTO:-0400
TZNAME:EDT
DTSTART:20230312T070000
END:DAYLIGHT
BEGIN:STANDARD
TZOFFSETFROM:-0400
TZOFFSETTO:-0500
TZNAME:EST
DTSTART:20231105T060000
END:STANDARD
END:VTIMEZONE
BEGIN:VEVENT
DTSTART;TZID=America/Detroit:20220304T030000
DTEND;TZID=America/Detroit:20220312T120000
DTSTAMP:20260424T111400
CREATED:20210629T175240Z
LAST-MODIFIED:20211101T185402Z
UID:2465-1646362800-1647086400@skimich.com
SUMMARY:Val di Fassa\, Italy  2022
DESCRIPTION:Vigo\, Val di Fassa\, Italy$2\,298.00 Check or $2\,389.92 Credit CardHotel Alpen CoronaFriday\, March 4th to Saturday March 12/14th\, 2022Optional 2- night extension in Venice add’l $399  includes breakfast\n\n\n\nTRIP INCLUDES: \nA. Schussmeister’s 2021/2022 Club Membership included \nB. Round Trip Air transportation from Detroit to Venice\, Italy \nC. Private round-trip transfer from airport to hotel and return \nD. Welcome drink reception \nE. Daily breakfast at hotel and nightly 4-star dinner \nF. 7 nights/6 days at the Hotel Alpen Corona – a 4 **** hotel \nG. Pool\, Sauna\, Jacuzzi\, steam room\, free WiFi \nH. All taxes and fuel charges \nI. LIFT TICKETS ARE NOT INCLUDED! \nFlight itinerary and fees are subject to change by airlines\, departure dates will not change. \n\n\n\n                    Italy  2022Schussmeisters’s of Michigan 2022 Trip Application\nVigo\, Val di Fassa\, Italy$2\,298.00 check or $2\,389.92 credit cardHotel Alpen CoronaFriday\, March 4th to Saturday March 12/14th\, 2022Optional 2- night extension in Venice add’l $399  includes breakfastFirst NameMiddle NameLast NameYour name has to be as it appears on your Driver’s license and/or Passport! AddressAddress Line 1CityStateZip CodeAre you a member? Yes NoEmailBirthdateHome PhoneMobile numberEmergency Contact’s First nameEmergency Contact’s Last nameEmergency Contact Phone numberFrequent Flyer #TSA number:Passport #Passport Expiration DateAre you willing to room with a smoker? (rooms do not allow smoking) Yes NoWould you sleep in the same queen/king bed with a preferred roommate? Yes NoPlease list your preferred roommate. Townhouses are 3BR + Loft (6-share)Payment SectionCheck Payment Schedule\nPlease make checks payable to Schussmeisters’ of Michigan  (in the memo area write Italy) and return this Trip Agreement Application with your initial deposit of $300.00 (with payments as indicated in schedule) to: \nPam Bradshaw\, 5799 S. Main St #44\, Clarkston\, MI  48347 \n248-505-7005 \n\n\n\nDeposit:  $300 \n\n\nJuly: $2750 \n\n\nAugust: $275 \n\n\nSeptember: $275 \n\n\n\n\nOctober: $275 \n\n\nNovember: $275 \n\n\nDecember: $275 \n\nJanuary: Balance Due\n\n\nCredit/Debit Card Payments\nAfter you submit your Application proceed to Events and Trip Payment Section\nYou will NOT receive reminders to make your payments!Club and Trip PolicySchussmeisters’ of Michigan provides a zero profit zero loss Western Ski Trip.  Every effort has been made to provide our members with the lowest cost trip available with the amenities they have become accustom to. Members going on multiple trips will be credited back any duplicate membership fees. Members that qualify for senior discounts will have the discount applied and difference returned.  In the event our trips have a positive balance after all bills are paid – the profit will be divided between all participants. Refunds under 10.00 will not be made. In the event there is a negative balance after the trip — all participants will be required to share in that cost.  Acknowledgement of Schussmeisters’ Ski and Board Trip Policy Check here to acknowledge that you have read and understand the above statement.Trip Cancellation Policy \nDeposits for all trips will be established by the trip Director\, Pam Bradshaw\, 5799 S. Main #44\, Clarkston\, MI 48347\, Cell No. (248) 505-7005\, E-Mail: pambradshaw@realtor.com \nUnless a replacement is found\, expenses incurred by Schussmeisters’ of Michigan.\, such as bus fees\, are non-refundable and will be passed on to the person canceling.  Any refunds should be mailed out two weeks after the completion of the trip (if any). \nIn special situations\, the Board of Directors\, at its discretion\, may decide to waive the cancellation fee.  Special cases are to be submitted in writing to the Schussmeister’s Board for review. Acknowledgement and Acceptance of Trip Cancellation Policy Check here to acknowledge that you have read and understand the Trip Cancellation Policy.Important Information \nTrip Insurance:  The Schussmeisters along\, with our Tour Operator\, strongly recommends the purchase of comprehensive travel and trip cancellation insurance. We believe insurance coverage is absolutely essential for international trips where medical costs for injury or illness may not be covered by your U.S. based healthcare plan. Trip Insurance Policy coverage information\, price quotes and policy purchases can be made by USA individual travelers by going to the following link:  \nhttps://purchase.April-usa.com/alp/single-trip \nIMPORTANT:  when filling out the form\, please make sure to enter SSS2030 in the field for Booking ID/Number. \nFlight Arrangements:  Airline flight schedules or itineraries are subject to change without notice. The Schussmeisters’ nor the Tour Operator has no control over carrier decisions in this regard. \nForce Majeure Cancellation:  If COVID-19 causes major travel interruptions impacting the trip (i.e. trip flights cancelled\, international travel restricted)\, or if the resort vendors are closed over the dates of the trip\, the group will be extended a credit toward a future trip in the amount paid.  The credit will be subject to credits issued by all trip vendors. \nPassport Book \nTrip requires participant to obtain a United States Passport and provide the information to the trip director by December 31\, 2021. If the Passport information is not provided\, the participant will be removed from the trip list unless alternative arrangements are made ahead of time. NOTE:  If your passport expires on or before September 2122\, you MUST apply for a new passport prior to the departure of this trip.  Please make sure you have at least two (2) blank pages in your passport book.  If you have a visa\, please ensure all documentation is in place. Please provide your Trip Director a copy of your passport that will be submitted before ticketing takes place. Acknowledgement and Acceptance of International Travel Information Check here to acknowledge that you have read and understand the “Imortant Inormation” section!Please sign here:\n\n\n    \n\n    \n        \n            \n                \n            \n            \n            \n                \n            \n\n            \n                \n            \n        \n\n        Sign Here\n    \n\nSignature DateSubmit Application/Payment
URL:https://skimich.com/event/val-di-fassa-italy/
CATEGORIES:European Trip
ATTACH;FMTTYPE=image/jpeg:https://skimich.com/wp-content/uploads/2021/06/Val-di-Fassa-ski-resort-1675x942.jpg
ORGANIZER;CN="Pam Bradshaw":MAILTO:pambradshaw@realtor.com
END:VEVENT
END:VCALENDAR