BEGIN:VCALENDAR
VERSION:2.0
PRODID:-//Schussmeisters&#039; Ski and Board Club - ECPv6.15.20//NONSGML v1.0//EN
CALSCALE:GREGORIAN
METHOD:PUBLISH
X-ORIGINAL-URL:https://skimich.com
X-WR-CALDESC:Events for Schussmeisters&#039; Ski and Board Club
REFRESH-INTERVAL;VALUE=DURATION:PT1H
X-Robots-Tag:noindex
X-PUBLISHED-TTL:PT1H
BEGIN:VTIMEZONE
TZID:America/Detroit
BEGIN:DAYLIGHT
TZOFFSETFROM:-0500
TZOFFSETTO:-0400
TZNAME:EDT
DTSTART:20250309T070000
END:DAYLIGHT
BEGIN:STANDARD
TZOFFSETFROM:-0400
TZOFFSETTO:-0500
TZNAME:EST
DTSTART:20251102T060000
END:STANDARD
BEGIN:DAYLIGHT
TZOFFSETFROM:-0500
TZOFFSETTO:-0400
TZNAME:EDT
DTSTART:20260308T070000
END:DAYLIGHT
BEGIN:STANDARD
TZOFFSETFROM:-0400
TZOFFSETTO:-0500
TZNAME:EST
DTSTART:20261101T060000
END:STANDARD
BEGIN:DAYLIGHT
TZOFFSETFROM:-0500
TZOFFSETTO:-0400
TZNAME:EDT
DTSTART:20270314T070000
END:DAYLIGHT
BEGIN:STANDARD
TZOFFSETFROM:-0400
TZOFFSETTO:-0500
TZNAME:EST
DTSTART:20271107T060000
END:STANDARD
END:VTIMEZONE
BEGIN:VEVENT
DTSTART;TZID=America/Detroit:20260109T080000
DTEND;TZID=America/Detroit:20260111T170000
DTSTAMP:20260420T163138
CREATED:20251104T153054Z
LAST-MODIFIED:20251104T153543Z
UID:11102-1767945600-1768150800@skimich.com
SUMMARY:Nubs Nob U-Drive
DESCRIPTION:We have reserved 10 rooms at Bayview Inn\, Petoskey. Jan 9 & 10\, (Fri & Sat nights).  At $152/Night + taxes/fees\, standard room-group rate Call 231-347-2771 for reservations/details.  Tell them you are a Schussmeister’s. You must stay 2 nights for this rate and must reserve by Dec. 10.  If you need to cancel\, You MUST cancel by Jan. 2nd. \nBuy Your Nub’s Nob Lift Tickets Online (for a discount) Or At Window At The Lodge There is Not A Group Rate For Tickets -(70 And Over Ski Free) Potluck on Saturday\, Jan 10th at 12:30pm in The Brown Bagger (lower level of lodge) Contact Paulette Balogh via text 248-408-3428 Or Email :paulette.balogh@gmail.com if you wish to participate  \nJoin the Schussmeister’s for a U-Drive/U-Book Ski Weekend or a day Skiing JAN. 10 & 11\, 2026. If you just plan on coming up for the day please still sign up so we have a head count for the potluck lunch. \nThank you everyone and can’t wait to go to Nubs for our first trip up NORTH. \n\n\n\n\n\n\n\n                    Nubs Nob U-Drive Jan 9thFirst NameLast NameEmailPhone/MobileName of guests coming with youIf you are bringing something for pot luck\, what are you bringing?Submit Form
URL:https://skimich.com/event/nubs-nob-u-drive-2/
LOCATION:Nubs Nob Ski Resort\, 500 Nubs Nob Rd\, Harbor Springs\, Michigan\, 49740
ATTACH;FMTTYPE=image/png:https://skimich.com/wp-content/uploads/2025/11/Nubs-Nob-U-Drive.png
ORGANIZER;CN="Jerry Balogh":MAILTO:jerry.balogh@gmail.com
END:VEVENT
END:VCALENDAR